BEGIN:VCALENDAR
VERSION:2.0
PRODID:-//Paul Dickson - ECPv6.15.20//NONSGML v1.0//EN
CALSCALE:GREGORIAN
METHOD:PUBLISH
X-WR-CALNAME:Paul Dickson
X-ORIGINAL-URL:https://www.pauldicksontours.co.uk
X-WR-CALDESC:Events for Paul Dickson
REFRESH-INTERVAL;VALUE=DURATION:PT1H
X-Robots-Tag:noindex
X-PUBLISHED-TTL:PT1H
BEGIN:VTIMEZONE
TZID:Europe/London
BEGIN:DAYLIGHT
TZOFFSETFROM:+0000
TZOFFSETTO:+0100
TZNAME:BST
DTSTART:20250330T010000
END:DAYLIGHT
BEGIN:STANDARD
TZOFFSETFROM:+0100
TZOFFSETTO:+0000
TZNAME:GMT
DTSTART:20251026T010000
END:STANDARD
BEGIN:DAYLIGHT
TZOFFSETFROM:+0000
TZOFFSETTO:+0100
TZNAME:BST
DTSTART:20260329T010000
END:DAYLIGHT
BEGIN:STANDARD
TZOFFSETFROM:+0100
TZOFFSETTO:+0000
TZNAME:GMT
DTSTART:20261025T010000
END:STANDARD
BEGIN:DAYLIGHT
TZOFFSETFROM:+0000
TZOFFSETTO:+0100
TZNAME:BST
DTSTART:20270328T010000
END:DAYLIGHT
BEGIN:STANDARD
TZOFFSETFROM:+0100
TZOFFSETTO:+0000
TZNAME:GMT
DTSTART:20271031T010000
END:STANDARD
END:VTIMEZONE
BEGIN:VEVENT
DTSTART;TZID=Europe/London:20260424T103000
DTEND;TZID=Europe/London:20260424T103000
DTSTAMP:20260424T221234
CREATED:20260109T105421Z
LAST-MODIFIED:20260109T105730Z
UID:3546-1777026600-1777026600@www.pauldicksontours.co.uk
SUMMARY:George Skipper in Cromer
DESCRIPTION:George Skipper in Cromer Tour\nJoin Paul Dickson on a 1 hour 45 minute tour looking at architect George Skipper’s legacy in the Norfolk seaside town. He worked on projects in Cromer from the late 1880s through to the 1930s. \nClick Here for more details on this tour \nBook this tour\nClick Here to book this tour. \nMore Dates\nThis tour is held several times during the year. If you are unable to make this date\, please check the Tour Dates listed to see more dates for this tour. \nPaul Dickson looks forward to welcoming you.
URL:https://www.pauldicksontours.co.uk/event/george-skipper-in-cromer-2/
LOCATION:North Norfolk Visitor Centre @ 26 Louden Road\, Cromer\, Norfolk\, England\, NR27 9EF\, United Kingdom
CATEGORIES:George Skipper in Cromer
ATTACH;FMTTYPE=image/jpeg:https://www.pauldicksontours.co.uk/wp-content/uploads/2023/02/Hotel-De-Paris-Cromer.jpg
END:VEVENT
BEGIN:VEVENT
DTSTART;TZID=Europe/London:20260424T110000
DTEND;TZID=Europe/London:20260424T110000
DTSTAMP:20260424T221234
CREATED:20260213T182451Z
LAST-MODIFIED:20260213T182451Z
UID:3665-1777028400-1777028400@www.pauldicksontours.co.uk
SUMMARY:Medieval Norwich - from the Normans to the Tudors
DESCRIPTION:Medieval Norwich – from the Normans to the Tudors Tour\nJoin Paul Dickson on a walking tour celebrating Norwich Castle’s Royal Palace Reborn project. Unearth Norwich’s medieval past on this tour with Blue Badge and City of Norwich guides. \nMeet at the 15th century Erpingham Gate in Tombland\, Norwich’s original Market Place. Hear stories of the great Norman Cathedral\, before heading past the ancient Maids Head Hotel and walking up Elm Hill. Discover why Norwich has more medieval churches than any other city in northern Europe\, see the largest surviving Friary complex in the country and hear about the local impact of The Peasant’s Revolt\, before arriving in the Market Place\, which has been at the heart of Norwich’s shopping scene since the 1070s. Close by are the 15th century Guildhall and the vast St Peter Mancroft Church. End the tour viewing Norwich Castle from above the Market Place. \nClick Here for more details on this tour \nBook this tour\nClick Here to book this tour. \nMore Dates\nThis tour is held several times during the year. If you are unable to make this date\, please check the Tour Dates listed to see more dates for this tour. \nPaul Dickson looks forward to welcoming you.
URL:https://www.pauldicksontours.co.uk/event/medieval-norwich-from-the-normans-to-the-tudors-3/
LOCATION:The Erpingham Gate @ 10 Tombland\, Norwich\, NR3 1HF\, England
CATEGORIES:Medieval Norwich - from the Normans to the Tudors
ATTACH;FMTTYPE=image/jpeg:https://www.pauldicksontours.co.uk/wp-content/uploads/2024/08/2690_image_Norwich-Castle_iUCG.jpg
END:VEVENT
END:VCALENDAR